BEGIN:VCALENDAR
VERSION:2.0
PRODID:-//wp-events-plugin.com//7.2.3.1//EN
BEGIN:VEVENT
UID:80@aftpva.org
DTSTART;TZID=Europe/Paris:20260618T180000
DTEND;TZID=Europe/Paris:20260618T220000
DTSTAMP:20260331T084404Z
URL:https://aftpva.org/events/soiree-technique-idf-250626/
SUMMARY:Soirée technique
DESCRIPTION:Programme en cours de construction
ATTACH;FMTTYPE=image/jpeg:https://aftpva.org/wp-content/uploads/2024/07/lo
 go-aftpva-ile-de-france-evt.jpg
CATEGORIES:Evènements AFTPVA
END:VEVENT
BEGIN:VTIMEZONE
TZID:Europe/Paris
X-LIC-LOCATION:Europe/Paris
BEGIN:DAYLIGHT
DTSTART:20260329T030000
TZOFFSETFROM:+0100
TZOFFSETTO:+0200
TZNAME:CEST
END:DAYLIGHT
END:VTIMEZONE
END:VCALENDAR