BEGIN:VCALENDAR
VERSION:2.0
PRODID:-//wp-events-plugin.com//7.2.3.1//EN
BEGIN:VEVENT
UID:72@aftpva.org
DTSTART;TZID=Europe/Paris:20260611T000000
DTEND;TZID=Europe/Paris:20260611T000000
DTSTAMP:20260204T093956Z
URL:https://aftpva.org/events/jt-so-adhesifs-au-fcba/
SUMMARY:JT commune : collage\, coating et finition bois au FCBA
DESCRIPTION:En cours de construction\nFCBA\nPrésentations dédiées au col
 lage et à la finition bois.\nVisite des locaux l’après-midi.\nAFTPVA\n
 5 conférences sur le collage et le coating bois\, animées par Blanchon\,
  Allnex\, Applus+ Rescoll et AMG Solution France.\n&nbsp\;\n\nLa veille\n\
 nComme le veut la tradition\, une soirée conviviale sera également propo
 sée la veille\, le 10 juin 2026\, pour se retrouver et échanger dans une
  ambiance détendue.\n\n&nbsp\;
ATTACH;FMTTYPE=image/jpeg:https://aftpva.org/wp-content/uploads/2025/11/jt
 -so-adhesifs.jpg
CATEGORIES:Evènements AFTPVA
LOCATION:FCBA Pôle Bois Construction\, All. de Boutaut  \, Bordeaux\, 3300
 0\, France
X-APPLE-STRUCTURED-LOCATION;VALUE=URI;X-ADDRESS=All. de Boutaut  \, Bordeau
 x\, 33000\, France;X-APPLE-RADIUS=100;X-TITLE=FCBA Pôle Bois Construction
 :geo:0,0
END:VEVENT
BEGIN:VTIMEZONE
TZID:Europe/Paris
X-LIC-LOCATION:Europe/Paris
BEGIN:DAYLIGHT
DTSTART:20260329T030000
TZOFFSETFROM:+0100
TZOFFSETTO:+0200
TZNAME:CEST
END:DAYLIGHT
END:VTIMEZONE
END:VCALENDAR