BEGIN:VCALENDAR
VERSION:2.0
PRODID:-//wp-events-plugin.com//7.2.3.1//EN
BEGIN:VEVENT
UID:81@aftpva.org
DTSTART;TZID=Europe/Paris:20260923T000000
DTEND;TZID=Europe/Paris:20260923T000000
DTSTAMP:20260309T092738Z
URL:https://aftpva.org/events/jt-adhesifs-au-sein-des-jadh/
SUMMARY:JT Adhésifs au sein des 24e JADH : l'appel à conférence est ouve
 rt
DESCRIPTION:La prochaine journée technique Adhésifs aura lieu le 23 septe
 mbre au sein des Journées d'étude sur l'Adhésion autour de 8 Thèmes.\n
 \nL'appel à conférences est ouvert.\n\nContact : Lucie Boeri\, Présid
 ente de l'AFTPVA Groupe Adhésifs\, groupe-adhesifs@aftpva.org\n\n&nbsp\;
ATTACH;FMTTYPE=image/jpeg:https://aftpva.org/wp-content/uploads/2026/03/JA
 DH-2026_2.jpg
CATEGORIES:Evènements AFTPVA
LOCATION:VVF de Lège Cap-Ferret\, Av. Edouard Branly\, Lège-Cap-Ferret\, 
 33950\, France
X-APPLE-STRUCTURED-LOCATION;VALUE=URI;X-ADDRESS=Av. Edouard Branly\, Lège-
 Cap-Ferret\, 33950\, France;X-APPLE-RADIUS=100;X-TITLE=VVF de Lège Cap-Fe
 rret:geo:0,0
END:VEVENT
BEGIN:VTIMEZONE
TZID:Europe/Paris
X-LIC-LOCATION:Europe/Paris
BEGIN:DAYLIGHT
DTSTART:20260329T030000
TZOFFSETFROM:+0100
TZOFFSETTO:+0200
TZNAME:CEST
END:DAYLIGHT
END:VTIMEZONE
END:VCALENDAR