BEGIN:VCALENDAR
VERSION:2.0
PRODID:-//wp-events-plugin.com//7.2.3.1//EN
BEGIN:VEVENT
UID:71@aftpva.org
DTSTART;TZID=Europe/Paris;VALUE=DATE:20260630
DTEND;TZID=Europe/Paris;VALUE=DATE:20260703
DTSTAMP:20251023T132437Z
URL:https://aftpva.org/events/congres-etcc-2026/
SUMMARY:Congrès ETCC
DESCRIPTION:En 2026\, l’European Technical Coatings Congress\, organisé 
 par la Fatipec et Czech Chemical Society\, se réunira à Prague\, pour "u
 n monde plus coloré".\n\nETCC est l'un des événements les plus importan
 ts pour la profession. Tous les 2 ans\, le congrès européen est le point
  de rencontre de l'industrie et de la science\, le rendez-vous des technic
 iens et des chercheurs. Plus qu'un congrès\, ETCC est le plateforme d'éc
 hanges et de coopération internationale\, l'occasion unique d’explorer 
 les dernières avancées en matière de matériaux\, de produits\, de trai
 tements\, d’équipements\, de recherche et d’essais.\n\n&nbsp\;\nProgr
 amme en cours de construction\nThématiques :\n\n 	Revêtements et peintur
 es – Technologie et innovations\n 	Traitement de surface et ingénierie\
 n 	Matières premières et matériaux avancés pour les revêtements\n 	M
 éthodes d'analyse et d'essai\n 	Aspects environnementaux et durabilité\n
  	Revêtements fonctionnels et nouvelles applications\n 	Tendances industr
 ielles\, processus et automatisation\n\nEnregistrez-vous\nConférenciers\,
  envoyez votre présentation avant le 29 février 2026.\n\nSponsors\, déc
 ouvrez nos formules de parrainage.\n\nParticipants\, profitez de l'inscrip
 tion anticipée à tarif réduit avant le 31 mai 2026.\n\nUniversité d'é
 té pour les étudiants le 29 juin 2026.\n\nPlus d'informations : www.etcc
 2026-prague.org 
ATTACH;FMTTYPE=image/jpeg:https://aftpva.org/wp-content/uploads/2025/10/et
 cc2026.png
CATEGORIES:Evènements AFTPVA
LOCATION:Clarion Congress Hotel Prague\, Freyova 945/33\, Prague\, Républi
 que tchèque
X-APPLE-STRUCTURED-LOCATION;VALUE=URI;X-ADDRESS=Freyova 945/33\, Prague\, R
 épublique tchèque;X-APPLE-RADIUS=100;X-TITLE=Clarion Congress Hotel Prag
 ue:geo:0,0
END:VEVENT
BEGIN:VTIMEZONE
TZID:Europe/Paris
X-LIC-LOCATION:Europe/Paris
BEGIN:DAYLIGHT
DTSTART:20260329T030000
TZOFFSETFROM:+0100
TZOFFSETTO:+0200
TZNAME:CEST
END:DAYLIGHT
END:VTIMEZONE
END:VCALENDAR